BEGIN:VCALENDAR
VERSION:2.0
PRODID:-//Omega Omega Chapter of Alpha Kappa Alpha Sorority, Inc.® - ECPv6.15.20//NONSGML v1.0//EN
CALSCALE:GREGORIAN
METHOD:PUBLISH
X-WR-CALNAME:Omega Omega Chapter of Alpha Kappa Alpha Sorority, Inc.®
X-ORIGINAL-URL:https://akaomegaomegachapter.com
X-WR-CALDESC:Events for Omega Omega Chapter of Alpha Kappa Alpha Sorority, Inc.®
REFRESH-INTERVAL;VALUE=DURATION:PT1H
X-Robots-Tag:noindex
X-PUBLISHED-TTL:PT1H
BEGIN:VTIMEZONE
TZID:America/New_York
BEGIN:DAYLIGHT
TZOFFSETFROM:-0500
TZOFFSETTO:-0400
TZNAME:EDT
DTSTART:20190310T070000
END:DAYLIGHT
BEGIN:STANDARD
TZOFFSETFROM:-0400
TZOFFSETTO:-0500
TZNAME:EST
DTSTART:20191103T060000
END:STANDARD
BEGIN:DAYLIGHT
TZOFFSETFROM:-0500
TZOFFSETTO:-0400
TZNAME:EDT
DTSTART:20200308T070000
END:DAYLIGHT
BEGIN:STANDARD
TZOFFSETFROM:-0400
TZOFFSETTO:-0500
TZNAME:EST
DTSTART:20201101T060000
END:STANDARD
BEGIN:DAYLIGHT
TZOFFSETFROM:-0500
TZOFFSETTO:-0400
TZNAME:EDT
DTSTART:20210314T070000
END:DAYLIGHT
BEGIN:STANDARD
TZOFFSETFROM:-0400
TZOFFSETTO:-0500
TZNAME:EST
DTSTART:20211107T060000
END:STANDARD
BEGIN:DAYLIGHT
TZOFFSETFROM:-0500
TZOFFSETTO:-0400
TZNAME:EDT
DTSTART:20220313T070000
END:DAYLIGHT
BEGIN:STANDARD
TZOFFSETFROM:-0400
TZOFFSETTO:-0500
TZNAME:EST
DTSTART:20221106T060000
END:STANDARD
END:VTIMEZONE
BEGIN:VEVENT
DTSTART;TZID=America/New_York:20210219T183000
DTEND;TZID=America/New_York:20210219T193000
DTSTAMP:20260421T132246
CREATED:20210218T224244Z
LAST-MODIFIED:20210218T224244Z
UID:4786-1613759400-1613763000@akaomegaomegachapter.com
SUMMARY:Self Care Workshop
DESCRIPTION:Please join the lovely ladies of Alpha Kappa Alpha Sorority Incorporated\, Omega Omega Chapter #CAP committee for the “Self-Care Workshop”. This is a free event for students and their parents. \nFriday\, February 19\, 2021\, at 6:30 p.m.\n \nOur guest presenter and Dr. Shawn Blue\, a Licensed Psychologist at Thomas Jefferson University She will discuss relevant self-care practices for students.   \nIf you have any questions please email Capomegaomega@gmail.com.  \n \nPlease register by Wednesday\, February 17\, 2021 \n https://tinyurl.com/y3pck7p8
URL:https://akaomegaomegachapter.com/event/self-care-workshop/
LOCATION:Zoom
ATTACH;FMTTYPE=application/pdf:https://akaomegaomegachapter.com/wp-content/uploads/2021/02/Digest_CAP-Self-Care-Workshop-Flyer-2-19-2021_Final.pdf
END:VEVENT
BEGIN:VEVENT
DTSTART;TZID=America/New_York:20210201T080000
DTEND;TZID=America/New_York:20210228T170000
DTSTAMP:20260421T132246
CREATED:20210218T033959Z
LAST-MODIFIED:20210218T033959Z
UID:4772-1612166400-1614531600@akaomegaomegachapter.com
SUMMARY:Heart and Stroke Fundraiser
DESCRIPTION:
URL:https://akaomegaomegachapter.com/event/heart-and-stroke-fundraiser/
ATTACH;FMTTYPE=image/png:https://akaomegaomegachapter.com/wp-content/uploads/2021/02/AHA-Fundraiser.png
END:VEVENT
BEGIN:VEVENT
DTSTART;VALUE=DATE:20200926
DTEND;VALUE=DATE:20200927
DTSTAMP:20260421T132246
CREATED:20200905T172719Z
LAST-MODIFIED:20200905T172719Z
UID:4444-1601078400-1601164799@akaomegaomegachapter.com
SUMMARY:Diamond\, Pearl\, Golden Soror Recognition
DESCRIPTION:Zoom Virtual Meeting.  To join\, email: OOMembershipChairman@gmail.com
URL:https://akaomegaomegachapter.com/event/diamond-pearl-golden-soror-recognition/
END:VEVENT
BEGIN:VEVENT
DTSTART;TZID=America/New_York:20200925T190000
DTEND;TZID=America/New_York:20200925T200000
DTSTAMP:20260421T132246
CREATED:20200905T172416Z
LAST-MODIFIED:20200905T172416Z
UID:4440-1601060400-1601064000@akaomegaomegachapter.com
SUMMARY:HBCU Jeopardy
DESCRIPTION:
URL:https://akaomegaomegachapter.com/event/hbcu-jeopardy/
END:VEVENT
BEGIN:VEVENT
DTSTART;TZID=America/New_York:20200924T183000
DTEND;TZID=America/New_York:20200924T193000
DTSTAMP:20260421T132246
CREATED:20200905T172305Z
LAST-MODIFIED:20200905T172305Z
UID:4438-1600972200-1600975800@akaomegaomegachapter.com
SUMMARY:HBCU Movie Night: The Great Debaters
DESCRIPTION:
URL:https://akaomegaomegachapter.com/event/hbcu-movie-night-the-great-debaters/
CATEGORIES:Public
END:VEVENT
BEGIN:VEVENT
DTSTART;TZID=America/New_York:20200923T190000
DTEND;TZID=America/New_York:20200923T193000
DTSTAMP:20260421T132246
CREATED:20200905T171828Z
LAST-MODIFIED:20200905T171828Z
UID:4436-1600887600-1600889400@akaomegaomegachapter.com
SUMMARY:HBCU Virtual Happy Hour
DESCRIPTION:
URL:https://akaomegaomegachapter.com/event/hbcu-virtual-happy-hour/
CATEGORIES:Public
END:VEVENT
BEGIN:VEVENT
DTSTART;TZID=America/New_York:20200920T190000
DTEND;TZID=America/New_York:20200920T203000
DTSTAMP:20260421T132246
CREATED:20200905T172803Z
LAST-MODIFIED:20200905T172803Z
UID:4434-1600628400-1600633800@akaomegaomegachapter.com
SUMMARY:HBCU Rap Session
DESCRIPTION:
URL:https://akaomegaomegachapter.com/event/hbcu-rap-session/
CATEGORIES:Public
END:VEVENT
BEGIN:VEVENT
DTSTART;VALUE=DATE:20200920
DTEND;VALUE=DATE:20200927
DTSTAMP:20260421T132246
CREATED:20200905T171556Z
LAST-MODIFIED:20200905T171556Z
UID:4432-1600560000-1601164799@akaomegaomegachapter.com
SUMMARY:Target 1: HBCU Week
DESCRIPTION:Zoom Virtual Events.  For details\, email: OOHBCUForLife@gmail.com
URL:https://akaomegaomegachapter.com/event/target-1-hbcu-week/
CATEGORIES:Public
END:VEVENT
BEGIN:VEVENT
DTSTART;VALUE=DATE:20200919
DTEND;VALUE=DATE:20200920
DTSTAMP:20260421T132246
CREATED:20200905T170825Z
LAST-MODIFIED:20200905T171343Z
UID:4429-1600473600-1600559999@akaomegaomegachapter.com
SUMMARY:UNCF Virtual Walk
DESCRIPTION:For details: UNCF.org/DelawareValleyWalk
URL:https://akaomegaomegachapter.com/event/target-1-hbcu-for-life-committee-meeting/
CATEGORIES:Public
END:VEVENT
BEGIN:VEVENT
DTSTART;TZID=America/New_York:20200917T200000
DTEND;TZID=America/New_York:20200917T210000
DTSTAMP:20260421T132246
CREATED:20200905T173023Z
LAST-MODIFIED:20200905T173606Z
UID:4446-1600372800-1600376400@akaomegaomegachapter.com
SUMMARY:Target 1: HBCU For Life Committee Meeting
DESCRIPTION:Zoom Virtual Meeting.  To join\, email: OOHBCUForLife@gmail.com
URL:https://akaomegaomegachapter.com/event/target-1-hbcu-for-life-committee-meeting-2/
END:VEVENT
BEGIN:VEVENT
DTSTART;TZID=America/New_York:20200917T190000
DTEND;TZID=America/New_York:20200917T200000
DTSTAMP:20260421T132246
CREATED:20200905T170643Z
LAST-MODIFIED:20200905T170643Z
UID:4427-1600369200-1600372800@akaomegaomegachapter.com
SUMMARY:Target 4: The Arts! Committee Meeting
DESCRIPTION:Zoom Virtual Meeting.  To join\, email: omegaomegathearts@gmail.com
URL:https://akaomegaomegachapter.com/event/target-4-the-arts-committee-meeting-2/
END:VEVENT
BEGIN:VEVENT
DTSTART;TZID=America/New_York:20200916T190000
DTEND;TZID=America/New_York:20200916T193000
DTSTAMP:20260421T132246
CREATED:20200905T165731Z
LAST-MODIFIED:20200905T170049Z
UID:4419-1600282800-1600284600@akaomegaomegachapter.com
SUMMARY:Membership Committee Meeting
DESCRIPTION:Zoom Virtual Meeting.  To join\, email: oomembershipchairman@gmail.com
URL:https://akaomegaomegachapter.com/event/connection-committee-meeting-2/
END:VEVENT
BEGIN:VEVENT
DTSTART;TZID=America/New_York:20200916T183000
DTEND;TZID=America/New_York:20200916T190000
DTSTAMP:20260421T132246
CREATED:20200905T170303Z
LAST-MODIFIED:20200905T170303Z
UID:4423-1600281000-1600282800@akaomegaomegachapter.com
SUMMARY:Sisterly Relations Committee Meeting
DESCRIPTION:Zoom Virtual Meeting.  To join\, email: oomembershipchairman@gmail.com
URL:https://akaomegaomegachapter.com/event/sisterly-relations-committee-meeting-2/
END:VEVENT
BEGIN:VEVENT
DTSTART;TZID=America/New_York:20200916T180000
DTEND;TZID=America/New_York:20200916T200000
DTSTAMP:20260421T132246
CREATED:20200905T170421Z
LAST-MODIFIED:20200905T170421Z
UID:4425-1600279200-1600286400@akaomegaomegachapter.com
SUMMARY:Target 2: Nutrition for Life Committee Meeting
DESCRIPTION:Zoom Virtual Meeting.  To join\, email: racaka17@gmail.com or suebeewrites@gmail.com
URL:https://akaomegaomegachapter.com/event/target-2-nutrition-for-life-committee-meeting-2/
END:VEVENT
BEGIN:VEVENT
DTSTART;TZID=America/New_York:20200912T100000
DTEND;TZID=America/New_York:20200912T120000
DTSTAMP:20260421T132246
CREATED:20200905T164715Z
LAST-MODIFIED:20200905T165521Z
UID:4414-1599904800-1599912000@akaomegaomegachapter.com
SUMMARY:#CAP Committee Meeting
DESCRIPTION:Zoom Virtual Meeting.  To join\, email: capomegaomega@gmail.com
URL:https://akaomegaomegachapter.com/event/cap-committee-meeting/
END:VEVENT
BEGIN:VEVENT
DTSTART;TZID=America/New_York:20200912T100000
DTEND;TZID=America/New_York:20200912T120000
DTSTAMP:20260421T132246
CREATED:20200905T164627Z
LAST-MODIFIED:20200905T164627Z
UID:4412-1599904800-1599912000@akaomegaomegachapter.com
SUMMARY:Chapter Meeting
DESCRIPTION:Zoom link in Ivy and You and Digest
URL:https://akaomegaomegachapter.com/event/chapter-meeting-5/
END:VEVENT
BEGIN:VEVENT
DTSTART;TZID=America/New_York:20200911T150000
DTEND;TZID=America/New_York:20200911T170000
DTSTAMP:20260421T132246
CREATED:20200905T165643Z
LAST-MODIFIED:20200905T165643Z
UID:4417-1599836400-1599843600@akaomegaomegachapter.com
SUMMARY:Target 2: Nutrition for Life Committee Meeting
DESCRIPTION:Zoom Virtual Meeting.  To join\, email: akaoonutritionwellness@gmail.com
URL:https://akaomegaomegachapter.com/event/target-2-nutrition-for-life-committee-meeting/
END:VEVENT
BEGIN:VEVENT
DTSTART;TZID=America/New_York:20200909T183000
DTEND;TZID=America/New_York:20200909T203000
DTSTAMP:20260421T132246
CREATED:20200905T163057Z
LAST-MODIFIED:20200905T163057Z
UID:4410-1599676200-1599683400@akaomegaomegachapter.com
SUMMARY:Executive Board Meeting
DESCRIPTION:
URL:https://akaomegaomegachapter.com/event/executive-board-meeting/
END:VEVENT
BEGIN:VEVENT
DTSTART;TZID=America/New_York:20200908T193000
DTEND;TZID=America/New_York:20200908T203000
DTSTAMP:20260421T132246
CREATED:20200905T160724Z
LAST-MODIFIED:20200905T162701Z
UID:4405-1599593400-1599597000@akaomegaomegachapter.com
SUMMARY:Members Only - Target 5: Global Impact Committee Meeting
DESCRIPTION:Zoom Virtual Meeting.  To join\, email: akaooglobalimpact@gmail.com
URL:https://akaomegaomegachapter.com/event/target-5-global-impact-committee-meeting/
LOCATION:Zoom
END:VEVENT
BEGIN:VEVENT
DTSTART;TZID=America/New_York:20200502T100000
DTEND;TZID=America/New_York:20200502T120000
DTSTAMP:20260421T132246
CREATED:20200408T150753Z
LAST-MODIFIED:20200408T150842Z
UID:3845-1588413600-1588420800@akaomegaomegachapter.com
SUMMARY:Chapter Meeting
DESCRIPTION:
URL:https://akaomegaomegachapter.com/event/executive-committee-meeting-3/
LOCATION:Zoom
END:VEVENT
BEGIN:VEVENT
DTSTART;TZID=America/New_York:20200428T180000
DTEND;TZID=America/New_York:20200428T183000
DTSTAMP:20260421T132246
CREATED:20200408T150518Z
LAST-MODIFIED:20200408T150911Z
UID:3840-1588096800-1588098600@akaomegaomegachapter.com
SUMMARY:Meditation Call
DESCRIPTION:
URL:https://akaomegaomegachapter.com/event/meditation-call-2/
LOCATION:Zoom
END:VEVENT
BEGIN:VEVENT
DTSTART;TZID=America/New_York:20200421T183000
DTEND;TZID=America/New_York:20200421T200000
DTSTAMP:20260421T132246
CREATED:20200408T150640Z
LAST-MODIFIED:20200408T150944Z
UID:3843-1587493800-1587499200@akaomegaomegachapter.com
SUMMARY:Meditation Call
DESCRIPTION:
URL:https://akaomegaomegachapter.com/event/meditation-call-3/
LOCATION:Zoom
END:VEVENT
BEGIN:VEVENT
DTSTART;TZID=America/New_York:20200421T183000
DTEND;TZID=America/New_York:20200421T200000
DTSTAMP:20260421T132246
CREATED:20200408T150012Z
LAST-MODIFIED:20200408T151004Z
UID:3836-1587493800-1587499200@akaomegaomegachapter.com
SUMMARY:Membership Committee
DESCRIPTION:
URL:https://akaomegaomegachapter.com/event/membership-committee/
LOCATION:Zoom
END:VEVENT
BEGIN:VEVENT
DTSTART;TZID=America/New_York:20200419T150000
DTEND;TZID=America/New_York:20200419T170000
DTSTAMP:20260421T132246
CREATED:20200408T145914Z
LAST-MODIFIED:20200408T151035Z
UID:3834-1587308400-1587315600@akaomegaomegachapter.com
SUMMARY:Connection Committee Gun Violence Coalition
DESCRIPTION:
URL:https://akaomegaomegachapter.com/event/connection-committee-gun-violence-coalition-2/
LOCATION:Zoom
END:VEVENT
BEGIN:VEVENT
DTSTART;TZID=America/New_York:20200414T180000
DTEND;TZID=America/New_York:20200414T183000
DTSTAMP:20260421T132246
CREATED:20200408T150446Z
LAST-MODIFIED:20200408T151058Z
UID:3838-1586887200-1586889000@akaomegaomegachapter.com
SUMMARY:Meditation Call
DESCRIPTION:
URL:https://akaomegaomegachapter.com/event/meditation-call/
LOCATION:Zoom
END:VEVENT
BEGIN:VEVENT
DTSTART;TZID=America/New_York:20200412T183000
DTEND;TZID=America/New_York:20200412T203000
DTSTAMP:20260421T132246
CREATED:20200408T145426Z
LAST-MODIFIED:20200408T151125Z
UID:3826-1586716200-1586723400@akaomegaomegachapter.com
SUMMARY:Membership Committee Meeting
DESCRIPTION:
URL:https://akaomegaomegachapter.com/event/chapter-meeting-3/
LOCATION:Zoom
END:VEVENT
BEGIN:VEVENT
DTSTART;TZID=America/New_York:20200411T100000
DTEND;TZID=America/New_York:20200411T120000
DTSTAMP:20260421T132246
CREATED:20200408T145813Z
LAST-MODIFIED:20200408T151145Z
UID:3832-1586599200-1586606400@akaomegaomegachapter.com
SUMMARY:Chapter Meeting
DESCRIPTION:
URL:https://akaomegaomegachapter.com/event/chapter-meeting-4/
LOCATION:Zoom
END:VEVENT
BEGIN:VEVENT
DTSTART;TZID=America/New_York:20200409T183000
DTEND;TZID=America/New_York:20200409T203000
DTSTAMP:20260421T132246
CREATED:20200408T145741Z
LAST-MODIFIED:20200408T151204Z
UID:3830-1586457000-1586464200@akaomegaomegachapter.com
SUMMARY:Connection Committee - Gun Violence Coalition
DESCRIPTION:
URL:https://akaomegaomegachapter.com/event/connection-committee-gun-violence-coalition/
LOCATION:Zoom
END:VEVENT
BEGIN:VEVENT
DTSTART;TZID=America/New_York:20200408T183000
DTEND;TZID=America/New_York:20200408T203000
DTSTAMP:20260421T132246
CREATED:20200408T144909Z
LAST-MODIFIED:20200408T151225Z
UID:3824-1586370600-1586377800@akaomegaomegachapter.com
SUMMARY:Executive Committee Meeting
DESCRIPTION:
URL:https://akaomegaomegachapter.com/event/executive-committee-meeting-2/
LOCATION:Zoom
END:VEVENT
BEGIN:VEVENT
DTSTART;TZID=America/New_York:20200327T190000
DTEND;TZID=America/New_York:20200327T200000
DTSTAMP:20260421T132246
CREATED:20200224T030150Z
LAST-MODIFIED:20200224T030150Z
UID:3782-1585335600-1585339200@akaomegaomegachapter.com
SUMMARY:Omega Omega Ensemble Rehearsal
DESCRIPTION:
URL:https://akaomegaomegachapter.com/event/omega-omega-ensemble-rehearsal-3/
LOCATION:Camphor Memorial UM Church
END:VEVENT
END:VCALENDAR